BEGIN:VCALENDAR
VERSION:2.0
PRODID:-//Jan Degenhardt - ECPv6.15.14//NONSGML v1.0//EN
CALSCALE:GREGORIAN
METHOD:PUBLISH
X-WR-CALNAME:Jan Degenhardt
X-ORIGINAL-URL:http://j-degenhardt.de
X-WR-CALDESC:Veranstaltungen für Jan Degenhardt
REFRESH-INTERVAL;VALUE=DURATION:PT1H
X-Robots-Tag:noindex
X-PUBLISHED-TTL:PT1H
BEGIN:VTIMEZONE
TZID:Europe/Berlin
BEGIN:DAYLIGHT
TZOFFSETFROM:+0100
TZOFFSETTO:+0200
TZNAME:CEST
DTSTART:20230326T010000
END:DAYLIGHT
BEGIN:STANDARD
TZOFFSETFROM:+0200
TZOFFSETTO:+0100
TZNAME:CET
DTSTART:20231029T010000
END:STANDARD
BEGIN:DAYLIGHT
TZOFFSETFROM:+0100
TZOFFSETTO:+0200
TZNAME:CEST
DTSTART:20240331T010000
END:DAYLIGHT
BEGIN:STANDARD
TZOFFSETFROM:+0200
TZOFFSETTO:+0100
TZNAME:CET
DTSTART:20241027T010000
END:STANDARD
BEGIN:DAYLIGHT
TZOFFSETFROM:+0100
TZOFFSETTO:+0200
TZNAME:CEST
DTSTART:20250330T010000
END:DAYLIGHT
BEGIN:STANDARD
TZOFFSETFROM:+0200
TZOFFSETTO:+0100
TZNAME:CET
DTSTART:20251026T010000
END:STANDARD
END:VTIMEZONE
BEGIN:VEVENT
DTSTART;TZID=Europe/Berlin:20241031T203000
DTEND;TZID=Europe/Berlin:20241031T223000
DTSTAMP:20260423T190936
CREATED:20241020T152303Z
LAST-MODIFIED:20241026T214726Z
UID:590-1730406600-1730413800@j-degenhardt.de
SUMMARY:Drei Mal Lieder - Zebrano-Theater Berlin
DESCRIPTION:Ein Abend mit Manfred Maurenbrecher\, Jan Degenhardt und WOGER\nUnter dem Motto „Drei mal Lieder“ präsentieren die befreundeten politischen Songpoeten ihre Songs für Lebendigkeit\, Vielfalt\, Demokratie und gegen Krieg und Terror im Rahmen einer 3-Städte-Tour in einem gemeinsam gestalteten Programm. \nManfred Maurenbrecher aus Berlin\, https://www.maurenbrecher.com/\nJan Degenhardt aus Greifswald\, https://j-degenhardt.de/\nWOGER\, alias Wolfgang Gerbig aus Freiburg\, https://woger.webnode.page/
URL:http://j-degenhardt.de/konzerte/drei-mal-lieder-zebrano-theater-berlin/
LOCATION:Zebrano-Theater Berlin\, Lenbachstraße 7A\, Berlin\, Berlin\, 10245\, Deutschland
ATTACH;FMTTYPE=image/jpeg:https://jan-degenhardt.com/de/wp-content/uploads/sites/2/2024/10/Plakat-Berlin.jpg
END:VEVENT
END:VCALENDAR