BEGIN:VCALENDAR
VERSION:2.0
PRODID:-//Jan Degenhardt - ECPv6.15.14//NONSGML v1.0//EN
CALSCALE:GREGORIAN
METHOD:PUBLISH
X-WR-CALNAME:Jan Degenhardt
X-ORIGINAL-URL:http://j-degenhardt.de
X-WR-CALDESC:Veranstaltungen für Jan Degenhardt
REFRESH-INTERVAL;VALUE=DURATION:PT1H
X-Robots-Tag:noindex
X-PUBLISHED-TTL:PT1H
BEGIN:VTIMEZONE
TZID:Europe/Berlin
BEGIN:DAYLIGHT
TZOFFSETFROM:+0100
TZOFFSETTO:+0200
TZNAME:CEST
DTSTART:20220327T010000
END:DAYLIGHT
BEGIN:STANDARD
TZOFFSETFROM:+0200
TZOFFSETTO:+0100
TZNAME:CET
DTSTART:20221030T010000
END:STANDARD
BEGIN:DAYLIGHT
TZOFFSETFROM:+0100
TZOFFSETTO:+0200
TZNAME:CEST
DTSTART:20230326T010000
END:DAYLIGHT
BEGIN:STANDARD
TZOFFSETFROM:+0200
TZOFFSETTO:+0100
TZNAME:CET
DTSTART:20231029T010000
END:STANDARD
BEGIN:DAYLIGHT
TZOFFSETFROM:+0100
TZOFFSETTO:+0200
TZNAME:CEST
DTSTART:20240331T010000
END:DAYLIGHT
BEGIN:STANDARD
TZOFFSETFROM:+0200
TZOFFSETTO:+0100
TZNAME:CET
DTSTART:20241027T010000
END:STANDARD
END:VTIMEZONE
BEGIN:VEVENT
DTSTART;TZID=Europe/Berlin:20231206T200000
DTEND;TZID=Europe/Berlin:20231207T000000
DTSTAMP:20260424T093224
CREATED:20231119T003041Z
LAST-MODIFIED:20231119T003250Z
UID:541-1701892800-1701907200@j-degenhardt.de
SUMMARY:Sturm & Klang – Labelabend – Die Brücke\, Graz
DESCRIPTION:
URL:http://j-degenhardt.de/konzerte/sturm-klang-labelabend-die-bruecke-graz/
LOCATION:Die Brücke\, Grabenstraße 39a\, Graz\, 8010\, Österreich
ATTACH;FMTTYPE=image/png:https://jan-degenhardt.com/de/wp-content/uploads/sites/2/2023/11/sk-labelabend-plakat_2023-12-06.png
END:VEVENT
BEGIN:VEVENT
DTSTART;TZID=Europe/Berlin:20231207T200000
DTEND;TZID=Europe/Berlin:20231208T000000
DTSTAMP:20260424T093224
CREATED:20231119T003839Z
LAST-MODIFIED:20231119T003839Z
UID:544-1701979200-1701993600@j-degenhardt.de
SUMMARY:Sturm & Klang – Labelabend – Ministry of Artists\, Wien
DESCRIPTION:
URL:http://j-degenhardt.de/konzerte/sturm-klang-labelabend-ministry-of-artists-wien/
LOCATION:Ministry of Artists\, Allerheiligenpl. 15\, Wien\, 1200\, Österreich
ATTACH;FMTTYPE=image/png:https://jan-degenhardt.com/de/wp-content/uploads/sites/2/2023/11/sk-labelabend-plakat_2023-12-07.png
END:VEVENT
BEGIN:VEVENT
DTSTART;TZID=Europe/Berlin:20231208T200000
DTEND;TZID=Europe/Berlin:20231209T000000
DTSTAMP:20260424T093224
CREATED:20231119T004134Z
LAST-MODIFIED:20231119T004134Z
UID:547-1702065600-1702080000@j-degenhardt.de
SUMMARY:Sturm & Klang – Labelabend – Dachbodentheater\, Bruck an der Mur
DESCRIPTION:
URL:http://j-degenhardt.de/konzerte/sturm-klang-labelabend-dachbodentheater-bruck-an-der-mur/
LOCATION:Dachbodentheater\, Roseggerstraße 18\, Bruck an der Mur\, Österreich
ATTACH;FMTTYPE=image/png:https://jan-degenhardt.com/de/wp-content/uploads/sites/2/2023/11/sk-labelabend-plakat_2023-12-08.png
END:VEVENT
BEGIN:VEVENT
DTSTART;TZID=Europe/Berlin:20231209T190000
DTEND;TZID=Europe/Berlin:20231209T220000
DTSTAMP:20260424T093224
CREATED:20231119T004508Z
LAST-MODIFIED:20231119T004508Z
UID:551-1702148400-1702159200@j-degenhardt.de
SUMMARY:Sturm & Klang – Labelabend - Villa Hafner\, Maria Lankowitz
DESCRIPTION:
URL:http://j-degenhardt.de/konzerte/sturm-klang-labelabend-villa-hafner-maria-lankowitz/
LOCATION:Villa Hafner\, Anton-Hafner-Gasse 93\, Maria Lankowitz\, Österreich
ATTACH;FMTTYPE=image/png:https://jan-degenhardt.com/de/wp-content/uploads/sites/2/2023/11/sk-labelabend-plakat_2023-12-09.png
END:VEVENT
BEGIN:VEVENT
DTSTART;TZID=Europe/Berlin:20231216T200000
DTEND;TZID=Europe/Berlin:20231216T230000
DTSTAMP:20260424T093224
CREATED:20231119T004707Z
LAST-MODIFIED:20231119T004707Z
UID:554-1702756800-1702767600@j-degenhardt.de
SUMMARY:Sturm & Klang – Labelabend - BAC Theater\, Bad Arolsen
DESCRIPTION:
URL:http://j-degenhardt.de/konzerte/sturm-klang-labelabend-bac-theater-bad-arolsen/
LOCATION:BAC Theater\, In den Siepen 6\, Bad Arolsen\, Deutschland
ATTACH;FMTTYPE=image/png:https://jan-degenhardt.com/de/wp-content/uploads/sites/2/2023/11/sk-labelabend-plakat_2023-12-16.png
END:VEVENT
END:VCALENDAR